BEGIN:VCALENDAR
VERSION:2.0
PRODID:-//Family Engagement in Special Education - Tennessee - ECPv6.15.20//NONSGML v1.0//EN
CALSCALE:GREGORIAN
METHOD:PUBLISH
X-WR-CALNAME:Family Engagement in Special Education - Tennessee
X-ORIGINAL-URL:https://familyengagementtn.com
X-WR-CALDESC:Events for Family Engagement in Special Education - Tennessee
REFRESH-INTERVAL;VALUE=DURATION:PT1H
X-Robots-Tag:noindex
X-PUBLISHED-TTL:PT1H
BEGIN:VTIMEZONE
TZID:America/Chicago
BEGIN:DAYLIGHT
TZOFFSETFROM:-0600
TZOFFSETTO:-0500
TZNAME:CDT
DTSTART:20220313T080000
END:DAYLIGHT
BEGIN:STANDARD
TZOFFSETFROM:-0500
TZOFFSETTO:-0600
TZNAME:CST
DTSTART:20221106T070000
END:STANDARD
BEGIN:DAYLIGHT
TZOFFSETFROM:-0600
TZOFFSETTO:-0500
TZNAME:CDT
DTSTART:20230312T080000
END:DAYLIGHT
BEGIN:STANDARD
TZOFFSETFROM:-0500
TZOFFSETTO:-0600
TZNAME:CST
DTSTART:20231105T070000
END:STANDARD
BEGIN:DAYLIGHT
TZOFFSETFROM:-0600
TZOFFSETTO:-0500
TZNAME:CDT
DTSTART:20240310T080000
END:DAYLIGHT
BEGIN:STANDARD
TZOFFSETFROM:-0500
TZOFFSETTO:-0600
TZNAME:CST
DTSTART:20241103T070000
END:STANDARD
END:VTIMEZONE
BEGIN:VEVENT
DTSTART;TZID=America/Chicago:20230801T173000
DTEND;TZID=America/Chicago:20230801T183000
DTSTAMP:20260423T174930
CREATED:20230717T211018Z
LAST-MODIFIED:20230721T205523Z
UID:1644-1690911000-1690914600@familyengagementtn.com
SUMMARY:The Arc@School Special Education Advocacy Training Review Session #1
DESCRIPTION:Please join us virtually as we review The Arc@School’s Special Education Advocacy Curriculum training. \nModule 1 – Building a Foundation for Advocacy \nModule 2 – IDEA and Early Intervention Services \nModule 3 – IDEA and Special Education Services \nIf you haven’t already signed up for The Arc@School’s Special Education Advocacy Curriculum training\, you can do that here! \n 
URL:https://familyengagementtn.com/event/the-arcschool-special-education-advocacy-training-review-session-1/
LOCATION:West TN SPEDANG Zoom
CATEGORIES:Special Education
ORGANIZER;CN="Breanna Atwell":MAILTO:batwell@thearctn.org
END:VEVENT
END:VCALENDAR