BEGIN:VCALENDAR
VERSION:2.0
PRODID:-//Family Engagement in Special Education - Tennessee - ECPv6.15.20//NONSGML v1.0//EN
CALSCALE:GREGORIAN
METHOD:PUBLISH
X-WR-CALNAME:Family Engagement in Special Education - Tennessee
X-ORIGINAL-URL:https://familyengagementtn.com
X-WR-CALDESC:Events for Family Engagement in Special Education - Tennessee
REFRESH-INTERVAL;VALUE=DURATION:PT1H
X-Robots-Tag:noindex
X-PUBLISHED-TTL:PT1H
BEGIN:VTIMEZONE
TZID:America/Chicago
BEGIN:DAYLIGHT
TZOFFSETFROM:-0600
TZOFFSETTO:-0500
TZNAME:CDT
DTSTART:20230312T080000
END:DAYLIGHT
BEGIN:STANDARD
TZOFFSETFROM:-0500
TZOFFSETTO:-0600
TZNAME:CST
DTSTART:20231105T070000
END:STANDARD
BEGIN:DAYLIGHT
TZOFFSETFROM:-0600
TZOFFSETTO:-0500
TZNAME:CDT
DTSTART:20240310T080000
END:DAYLIGHT
BEGIN:STANDARD
TZOFFSETFROM:-0500
TZOFFSETTO:-0600
TZNAME:CST
DTSTART:20241103T070000
END:STANDARD
BEGIN:DAYLIGHT
TZOFFSETFROM:-0600
TZOFFSETTO:-0500
TZNAME:CDT
DTSTART:20250309T080000
END:DAYLIGHT
BEGIN:STANDARD
TZOFFSETFROM:-0500
TZOFFSETTO:-0600
TZNAME:CST
DTSTART:20251102T070000
END:STANDARD
END:VTIMEZONE
BEGIN:VEVENT
DTSTART;TZID=America/Chicago:20240820T180000
DTEND;TZID=America/Chicago:20240820T190000
DTSTAMP:20260424T102512
CREATED:20240729T221133Z
LAST-MODIFIED:20240806T183037Z
UID:2097-1724176800-1724180400@familyengagementtn.com
SUMMARY:FSSD Parent Night - Intro to Family Engagement
DESCRIPTION:Let’s kick off the new school year with an introduction to family engagement! FSSD partners with The Arc TN Family Engagement team to introduce district staff members\, review FSSD structures\, and learn about the resources and support that the Family Engagement team has to offer. Join us for an informative session that you do not want to miss! \nRegister Today!
URL:https://familyengagementtn.com/event/fssd-parent-night-intro-to-family-engagement/
LOCATION:Zoom
CATEGORIES:Family Training,Parent Training,Special Education,Support Group
ORGANIZER;CN="Taylor Laymon":MAILTO:tlaymon@thearctn.org
END:VEVENT
END:VCALENDAR