BEGIN:VCALENDAR
VERSION:2.0
PRODID:-//Family Engagement in Special Education - Tennessee - ECPv6.15.20//NONSGML v1.0//EN
CALSCALE:GREGORIAN
METHOD:PUBLISH
X-WR-CALNAME:Family Engagement in Special Education - Tennessee
X-ORIGINAL-URL:https://familyengagementtn.com
X-WR-CALDESC:Events for Family Engagement in Special Education - Tennessee
REFRESH-INTERVAL;VALUE=DURATION:PT1H
X-Robots-Tag:noindex
X-PUBLISHED-TTL:PT1H
BEGIN:VTIMEZONE
TZID:America/New_York
BEGIN:DAYLIGHT
TZOFFSETFROM:-0500
TZOFFSETTO:-0400
TZNAME:EDT
DTSTART:20230312T070000
END:DAYLIGHT
BEGIN:STANDARD
TZOFFSETFROM:-0400
TZOFFSETTO:-0500
TZNAME:EST
DTSTART:20231105T060000
END:STANDARD
BEGIN:DAYLIGHT
TZOFFSETFROM:-0500
TZOFFSETTO:-0400
TZNAME:EDT
DTSTART:20240310T070000
END:DAYLIGHT
BEGIN:STANDARD
TZOFFSETFROM:-0400
TZOFFSETTO:-0500
TZNAME:EST
DTSTART:20241103T060000
END:STANDARD
BEGIN:DAYLIGHT
TZOFFSETFROM:-0500
TZOFFSETTO:-0400
TZNAME:EDT
DTSTART:20250309T070000
END:DAYLIGHT
BEGIN:STANDARD
TZOFFSETFROM:-0400
TZOFFSETTO:-0500
TZNAME:EST
DTSTART:20251102T060000
END:STANDARD
END:VTIMEZONE
BEGIN:VEVENT
DTSTART;TZID=America/New_York:20240828T100000
DTEND;TZID=America/New_York:20240828T120000
DTSTAMP:20260422T083239
CREATED:20240716T222811Z
LAST-MODIFIED:20240722T152026Z
UID:2079-1724839200-1724846400@familyengagementtn.com
SUMMARY:Southeast TN Community Conversation
DESCRIPTION:Join us for an important conversation about special education across the state of TN! Family Engagement in Special Education invites all parents\, students\, educators\, service providers\, community stakeholders and advocates from across the state to give input. We want to know what you think is going well in special education\, what supports and guidance are needed and where to focus improvement efforts. Feedback from this session goes directly to the TN Department of Education to know where the best progress has been made and to help them direct priorities going forward. Your voice is vital and we value your input. \nRegister Today!
URL:https://familyengagementtn.com/event/southeast-tn-community-conversation/
LOCATION:Siskin Children’s Institute\, 1101 Carter Street\, Chattanooga\, TN\, 37402
CATEGORIES:Community Conversation
ORGANIZER;CN="Susan Carr":MAILTO:scarr@thearctn.org
END:VEVENT
END:VCALENDAR