BEGIN:VCALENDAR
VERSION:2.0
PRODID:-//Family Engagement in Special Education - Tennessee - ECPv6.15.20//NONSGML v1.0//EN
CALSCALE:GREGORIAN
METHOD:PUBLISH
X-WR-CALNAME:Family Engagement in Special Education - Tennessee
X-ORIGINAL-URL:https://familyengagementtn.com
X-WR-CALDESC:Events for Family Engagement in Special Education - Tennessee
REFRESH-INTERVAL;VALUE=DURATION:PT1H
X-Robots-Tag:noindex
X-PUBLISHED-TTL:PT1H
BEGIN:VTIMEZONE
TZID:America/Chicago
BEGIN:DAYLIGHT
TZOFFSETFROM:-0600
TZOFFSETTO:-0500
TZNAME:CDT
DTSTART:20230312T080000
END:DAYLIGHT
BEGIN:STANDARD
TZOFFSETFROM:-0500
TZOFFSETTO:-0600
TZNAME:CST
DTSTART:20231105T070000
END:STANDARD
BEGIN:DAYLIGHT
TZOFFSETFROM:-0600
TZOFFSETTO:-0500
TZNAME:CDT
DTSTART:20240310T080000
END:DAYLIGHT
BEGIN:STANDARD
TZOFFSETFROM:-0500
TZOFFSETTO:-0600
TZNAME:CST
DTSTART:20241103T070000
END:STANDARD
BEGIN:DAYLIGHT
TZOFFSETFROM:-0600
TZOFFSETTO:-0500
TZNAME:CDT
DTSTART:20250309T080000
END:DAYLIGHT
BEGIN:STANDARD
TZOFFSETFROM:-0500
TZOFFSETTO:-0600
TZNAME:CST
DTSTART:20251102T070000
END:STANDARD
END:VTIMEZONE
BEGIN:VEVENT
DTSTART;TZID=America/Chicago:20240930T180000
DTEND;TZID=America/Chicago:20240930T200000
DTSTAMP:20260420T154327
CREATED:20240910T195338Z
LAST-MODIFIED:20240911T154055Z
UID:2156-1727719200-1727726400@familyengagementtn.com
SUMMARY:South Central - Understanding Conservatorship and Other Decision Making Supports
DESCRIPTION:Please join the TN Center for Decision Making Support as they discuss the details of conservatorship and other decision making supports. There will be time for questions after the presentation. \nRegister Here!
URL:https://familyengagementtn.com/event/south-central-understanding-conservatorship-and-other-decision-making-supports/
LOCATION:UT Southern\, Martin Hall\, 433 West Madison Street\, Warren Wilson Room\, Pulaski\, TN\, 38478
CATEGORIES:Family Training,Special Education
ORGANIZER;CN="Susan Carr":MAILTO:scarr@thearctn.org
END:VEVENT
END:VCALENDAR