BEGIN:VCALENDAR
VERSION:2.0
PRODID:-//Family Engagement in Special Education - Tennessee - ECPv6.15.20//NONSGML v1.0//EN
CALSCALE:GREGORIAN
METHOD:PUBLISH
X-WR-CALNAME:Family Engagement in Special Education - Tennessee
X-ORIGINAL-URL:https://familyengagementtn.com
X-WR-CALDESC:Events for Family Engagement in Special Education - Tennessee
REFRESH-INTERVAL;VALUE=DURATION:PT1H
X-Robots-Tag:noindex
X-PUBLISHED-TTL:PT1H
BEGIN:VTIMEZONE
TZID:America/New_York
BEGIN:DAYLIGHT
TZOFFSETFROM:-0500
TZOFFSETTO:-0400
TZNAME:EDT
DTSTART:20230312T070000
END:DAYLIGHT
BEGIN:STANDARD
TZOFFSETFROM:-0400
TZOFFSETTO:-0500
TZNAME:EST
DTSTART:20231105T060000
END:STANDARD
BEGIN:DAYLIGHT
TZOFFSETFROM:-0500
TZOFFSETTO:-0400
TZNAME:EDT
DTSTART:20240310T070000
END:DAYLIGHT
BEGIN:STANDARD
TZOFFSETFROM:-0400
TZOFFSETTO:-0500
TZNAME:EST
DTSTART:20241103T060000
END:STANDARD
BEGIN:DAYLIGHT
TZOFFSETFROM:-0500
TZOFFSETTO:-0400
TZNAME:EDT
DTSTART:20250309T070000
END:DAYLIGHT
BEGIN:STANDARD
TZOFFSETFROM:-0400
TZOFFSETTO:-0500
TZNAME:EST
DTSTART:20251102T060000
END:STANDARD
END:VTIMEZONE
BEGIN:VEVENT
DTSTART;TZID=America/New_York:20241016T040000
DTEND;TZID=America/New_York:20241016T180000
DTSTAMP:20260420T191953
CREATED:20240911T215036Z
LAST-MODIFIED:20240912T221206Z
UID:2163-1729051200-1729101600@familyengagementtn.com
SUMMARY:Southeast TN - Cleveland Transition Fair
DESCRIPTION:Join us to learn about \nFunding Sources ~ Healthcare Options ~ Educational Opportunities ~ Conservatorship & Alternatives ~ Job Supports ~ Much More! \nDon’t miss out on the chance to connect with experts\, explore essential resources\, and discover opportunities that can make a difference in the life of your student. Mark your calendar and be part of this empowering experience! \nRegister Today!
URL:https://familyengagementtn.com/event/southeast-tn-cleveland-transition-fair/
LOCATION:Cleveland High School (Gym)\, 850 Raider Dr\, Cleveland\, TN\, 37312
CATEGORIES:Transition Fair
ORGANIZER;CN="Susan Carr":MAILTO:scarr@thearctn.org
END:VEVENT
END:VCALENDAR