BEGIN:VCALENDAR
VERSION:2.0
PRODID:-//Family Engagement in Special Education - Tennessee - ECPv6.15.20//NONSGML v1.0//EN
CALSCALE:GREGORIAN
METHOD:PUBLISH
X-ORIGINAL-URL:https://familyengagementtn.com
X-WR-CALDESC:Events for Family Engagement in Special Education - Tennessee
REFRESH-INTERVAL;VALUE=DURATION:PT1H
X-Robots-Tag:noindex
X-PUBLISHED-TTL:PT1H
BEGIN:VTIMEZONE
TZID:America/Chicago
BEGIN:DAYLIGHT
TZOFFSETFROM:-0600
TZOFFSETTO:-0500
TZNAME:CDT
DTSTART:20250309T080000
END:DAYLIGHT
BEGIN:STANDARD
TZOFFSETFROM:-0500
TZOFFSETTO:-0600
TZNAME:CST
DTSTART:20251102T070000
END:STANDARD
BEGIN:DAYLIGHT
TZOFFSETFROM:-0600
TZOFFSETTO:-0500
TZNAME:CDT
DTSTART:20260308T080000
END:DAYLIGHT
BEGIN:STANDARD
TZOFFSETFROM:-0500
TZOFFSETTO:-0600
TZNAME:CST
DTSTART:20261101T070000
END:STANDARD
BEGIN:DAYLIGHT
TZOFFSETFROM:-0600
TZOFFSETTO:-0500
TZNAME:CDT
DTSTART:20270314T080000
END:DAYLIGHT
BEGIN:STANDARD
TZOFFSETFROM:-0500
TZOFFSETTO:-0600
TZNAME:CST
DTSTART:20271107T070000
END:STANDARD
END:VTIMEZONE
BEGIN:VEVENT
DTSTART;TZID=America/Chicago:20260205T150000
DTEND;TZID=America/Chicago:20260205T163000
DTSTAMP:20260424T101455
CREATED:20260123T194945Z
LAST-MODIFIED:20260127T155652Z
UID:2839-1770303600-1770309000@familyengagementtn.com
SUMMARY:Southwest Tennessee Region - Community of Practice
DESCRIPTION:Join Family Engagement in Special Education for a Community of Practice event focused on avoiding conflict and ensuring positive outcomes for students. Educators and administrators from the Southwest Tennessee region will connect and learn proactive communication and conflict resolution strategies to strengthen relationships with families and students. \nThis event will be offered in both in-person and virtual formats. A Zoom link will be provided upon registration. \nCertificates of attendance will be available. \nRegister Here
URL:https://familyengagementtn.com/event/southwest-tennessee-region-community-of-practice/
LOCATION:Millington Performing Arts Center\, 8057 Wilkinsville Road\, Millington\, TN\, 38053
CATEGORIES:Community of Practice,Educator Training
ATTACH;FMTTYPE=application/pdf:https://familyengagementtn.com/wp-content/uploads/2026/01/Feb_5_Southwest_TN_Community_of_Practice.pdf
ORGANIZER;CN="Sandra Hawkins":MAILTO:shawkins@thearctn.org
END:VEVENT
BEGIN:VEVENT
DTSTART;TZID=America/Chicago:20260205T160000
DTEND;TZID=America/Chicago:20260205T190000
DTSTAMP:20260424T101455
CREATED:20260112T191908Z
LAST-MODIFIED:20260116T201434Z
UID:2820-1770307200-1770318000@familyengagementtn.com
SUMMARY:Lincoln County Schools Resource Fair
DESCRIPTION:Join Us for the Lincoln County Schools Resource Fair! Local and statewide organizations will be available to: \n\nprovide information about programs and supports for students with disabilities;\nhelp students and families plan for a successful transition after high school; and\nconnect students and families with community resources\, education\, and employment services.\n\nRegister Today!
URL:https://familyengagementtn.com/event/lincoln-county-schools-resource-fair/
LOCATION:Lincoln County High School\, 1233 Huntsville Highway\, Fayetteville\, TN\, 37334\, United States
CATEGORIES:Resource Fair
ATTACH;FMTTYPE=image/png:https://familyengagementtn.com/wp-content/uploads/2026/01/2526-Lincoln-County-Resource-Fair.png
ORGANIZER;CN="Beth Harrison":MAILTO:bharrison@thearctn.org
END:VEVENT
END:VCALENDAR