BEGIN:VCALENDAR
VERSION:2.0
PRODID:-//Family Engagement in Special Education - Tennessee - ECPv6.15.20//NONSGML v1.0//EN
CALSCALE:GREGORIAN
METHOD:PUBLISH
X-ORIGINAL-URL:https://familyengagementtn.com
X-WR-CALDESC:Events for Family Engagement in Special Education - Tennessee
REFRESH-INTERVAL;VALUE=DURATION:PT1H
X-Robots-Tag:noindex
X-PUBLISHED-TTL:PT1H
BEGIN:VTIMEZONE
TZID:America/New_York
BEGIN:DAYLIGHT
TZOFFSETFROM:-0500
TZOFFSETTO:-0400
TZNAME:EDT
DTSTART:20250309T070000
END:DAYLIGHT
BEGIN:STANDARD
TZOFFSETFROM:-0400
TZOFFSETTO:-0500
TZNAME:EST
DTSTART:20251102T060000
END:STANDARD
BEGIN:DAYLIGHT
TZOFFSETFROM:-0500
TZOFFSETTO:-0400
TZNAME:EDT
DTSTART:20260308T070000
END:DAYLIGHT
BEGIN:STANDARD
TZOFFSETFROM:-0400
TZOFFSETTO:-0500
TZNAME:EST
DTSTART:20261101T060000
END:STANDARD
BEGIN:DAYLIGHT
TZOFFSETFROM:-0500
TZOFFSETTO:-0400
TZNAME:EDT
DTSTART:20270314T070000
END:DAYLIGHT
BEGIN:STANDARD
TZOFFSETFROM:-0400
TZOFFSETTO:-0500
TZNAME:EST
DTSTART:20271107T060000
END:STANDARD
END:VTIMEZONE
BEGIN:VEVENT
DTSTART;TZID=America/New_York:20260307T120000
DTEND;TZID=America/New_York:20260307T160000
DTSTAMP:20260422T101412
CREATED:20260130T214515Z
LAST-MODIFIED:20260209T184929Z
UID:2865-1772884800-1772899200@familyengagementtn.com
SUMMARY:First TN Regional Miniconference and Resource Fair
DESCRIPTION:Join The Arc Tennessee’s Family Engagement in Special Education team and Washington County Schools for a regional miniconference and resource fair! \nThe Arc TN Family Engagement in Special Education and Washington County Schools are hosting a regional resource fair and miniconference to support families of students with disabilities. The event will feature community organizations as well as breakout sessions on conservatorship\, transition services\, and more. Snacks will be provided. \nIn case of inclement weather\, visit the Washington County Schools website at www.wcde.org for updates or rescheduling information. The inclement weather date is March 28\, 2026. \nRegister Here
URL:https://familyengagementtn.com/event/first-tn-regional-miniconference-and-resource-fair/
LOCATION:Daniel Boone High School\, 1440 Suncrest Dr.\, Gray\, TN\, 37615
CATEGORIES:Family Training,Parent Training,Resource Fair,Special Education,Transition Fair
ATTACH;FMTTYPE=image/png:https://familyengagementtn.com/wp-content/uploads/2026/01/3_7_First_TN_Regional_Mini_Conference_and_Resource_Fair.png
ORGANIZER;CN="Kristie Irvin":MAILTO:kirvin@thearctn.org
END:VEVENT
END:VCALENDAR