BEGIN:VCALENDAR
VERSION:2.0
PRODID:-//Family Engagement in Special Education - Tennessee - ECPv6.15.20//NONSGML v1.0//EN
CALSCALE:GREGORIAN
METHOD:PUBLISH
X-WR-CALNAME:Family Engagement in Special Education - Tennessee
X-ORIGINAL-URL:https://familyengagementtn.com
X-WR-CALDESC:Events for Family Engagement in Special Education - Tennessee
REFRESH-INTERVAL;VALUE=DURATION:PT1H
X-Robots-Tag:noindex
X-PUBLISHED-TTL:PT1H
BEGIN:VTIMEZONE
TZID:America/Chicago
BEGIN:DAYLIGHT
TZOFFSETFROM:-0600
TZOFFSETTO:-0500
TZNAME:CDT
DTSTART:20210314T080000
END:DAYLIGHT
BEGIN:STANDARD
TZOFFSETFROM:-0500
TZOFFSETTO:-0600
TZNAME:CST
DTSTART:20211107T070000
END:STANDARD
BEGIN:DAYLIGHT
TZOFFSETFROM:-0600
TZOFFSETTO:-0500
TZNAME:CDT
DTSTART:20220313T080000
END:DAYLIGHT
BEGIN:STANDARD
TZOFFSETFROM:-0500
TZOFFSETTO:-0600
TZNAME:CST
DTSTART:20221106T070000
END:STANDARD
BEGIN:DAYLIGHT
TZOFFSETFROM:-0600
TZOFFSETTO:-0500
TZNAME:CDT
DTSTART:20230312T080000
END:DAYLIGHT
BEGIN:STANDARD
TZOFFSETFROM:-0500
TZOFFSETTO:-0600
TZNAME:CST
DTSTART:20231105T070000
END:STANDARD
END:VTIMEZONE
BEGIN:VEVENT
DTSTART;TZID=America/Chicago:20220426T170000
DTEND;TZID=America/Chicago:20220426T180000
DTSTAMP:20260419T070834
CREATED:20220415T145434Z
LAST-MODIFIED:20220415T145434Z
UID:1452-1650992400-1650996000@familyengagementtn.com
SUMMARY:April Family Engagement Networking Night
DESCRIPTION:The Arc of Tennessee’s Family Engagement Team hosts a monthly networking group for families involved in Special Education across the state of Tennessee. These meetings take place on the last Tuesday of the month and will cover a variety of topics ranging from early childhood education through transitions to adulthood. \nWe’re excited to be joined by Terry Williams of TCG Health Connect. TCG Health Connect is a nonprofit organization that operates to assist consumers in Tennessee with health care insurance enrollment through the Federal and State Health insurance portals\, that include Marketplace and Tenncare websites\, health care promotions\, and sharing about health care technologies for use by the community. \nRegister for the event at the link below.
URL:https://familyengagementtn.com/event/april-family-engagement-networking-night-2/
CATEGORIES:FENN
END:VEVENT
END:VCALENDAR