BEGIN:VCALENDAR
VERSION:2.0
PRODID:-//Family Engagement in Special Education - Tennessee - ECPv6.15.20//NONSGML v1.0//EN
CALSCALE:GREGORIAN
METHOD:PUBLISH
X-ORIGINAL-URL:https://familyengagementtn.com
X-WR-CALDESC:Events for Family Engagement in Special Education - Tennessee
REFRESH-INTERVAL;VALUE=DURATION:PT1H
X-Robots-Tag:noindex
X-PUBLISHED-TTL:PT1H
BEGIN:VTIMEZONE
TZID:America/Chicago
BEGIN:DAYLIGHT
TZOFFSETFROM:-0600
TZOFFSETTO:-0500
TZNAME:CDT
DTSTART:20240310T080000
END:DAYLIGHT
BEGIN:STANDARD
TZOFFSETFROM:-0500
TZOFFSETTO:-0600
TZNAME:CST
DTSTART:20241103T070000
END:STANDARD
BEGIN:DAYLIGHT
TZOFFSETFROM:-0600
TZOFFSETTO:-0500
TZNAME:CDT
DTSTART:20250309T080000
END:DAYLIGHT
BEGIN:STANDARD
TZOFFSETFROM:-0500
TZOFFSETTO:-0600
TZNAME:CST
DTSTART:20251102T070000
END:STANDARD
BEGIN:DAYLIGHT
TZOFFSETFROM:-0600
TZOFFSETTO:-0500
TZNAME:CDT
DTSTART:20260308T080000
END:DAYLIGHT
BEGIN:STANDARD
TZOFFSETFROM:-0500
TZOFFSETTO:-0600
TZNAME:CST
DTSTART:20261101T070000
END:STANDARD
END:VTIMEZONE
BEGIN:VTIMEZONE
TZID:America/New_York
BEGIN:DAYLIGHT
TZOFFSETFROM:-0500
TZOFFSETTO:-0400
TZNAME:EDT
DTSTART:20240310T070000
END:DAYLIGHT
BEGIN:STANDARD
TZOFFSETFROM:-0400
TZOFFSETTO:-0500
TZNAME:EST
DTSTART:20241103T060000
END:STANDARD
BEGIN:DAYLIGHT
TZOFFSETFROM:-0500
TZOFFSETTO:-0400
TZNAME:EDT
DTSTART:20250309T070000
END:DAYLIGHT
BEGIN:STANDARD
TZOFFSETFROM:-0400
TZOFFSETTO:-0500
TZNAME:EST
DTSTART:20251102T060000
END:STANDARD
BEGIN:DAYLIGHT
TZOFFSETFROM:-0500
TZOFFSETTO:-0400
TZNAME:EDT
DTSTART:20260308T070000
END:DAYLIGHT
BEGIN:STANDARD
TZOFFSETFROM:-0400
TZOFFSETTO:-0500
TZNAME:EST
DTSTART:20261101T060000
END:STANDARD
END:VTIMEZONE
BEGIN:VEVENT
DTSTART;TZID=America/Chicago:20250305T150000
DTEND;TZID=America/Chicago:20250305T160000
DTSTAMP:20260423T042504
CREATED:20250115T192821Z
LAST-MODIFIED:20250203T231421Z
UID:2294-1741186800-1741190400@familyengagementtn.com
SUMMARY:March Monthly Office Hours for Educators
DESCRIPTION:Family Engagement in Special Education Monthly Office Hours for Educators – \n\n\n \n\n\nHave questions about Family Engagement in Special Education (FESPED) training? Want to connect with a specialist to talk about increasing family engagement to improve outcomes for students with disabilities? Join FESPED’s office hours on the first Wednesday of each month from 3:00 – 4:00 p.m. CST.
URL:https://familyengagementtn.com/event/march-monthly-office-hours-for-educators/
LOCATION:Zoom
CATEGORIES:Educator Event Category,Family Training,Special Education,Virtual
ATTACH;FMTTYPE=image/png:https://familyengagementtn.com/wp-content/uploads/2025/01/FESPED-Office-Hours-4.png
ORGANIZER;CN="FESPED - TN":MAILTO:specialeducation@thearctn.org
END:VEVENT
BEGIN:VEVENT
DTSTART;TZID=America/New_York:20250313T160000
DTEND;TZID=America/New_York:20250313T190000
DTSTAMP:20260423T042504
CREATED:20240522T225140Z
LAST-MODIFIED:20250203T231912Z
UID:2041-1741881600-1741892400@familyengagementtn.com
SUMMARY:Hamilton County Spring Transition Fair
DESCRIPTION:Please join us at the Hamilton County Spring Transition Fair. Vendors from across the state will be available to share information and discuss resources available to students as they enter the transition phase of their education. We look forward to seeing you there! \nRegister Here
URL:https://familyengagementtn.com/event/hamilton-county-transition-fair-2/
LOCATION:Hixon High School\, 5705 Middle Valley Road\, Hixon\, TN\, 37343
CATEGORIES:Special Education,Transition Fair
ATTACH;FMTTYPE=image/png:https://familyengagementtn.com/wp-content/uploads/2024/05/3-13-25-Hamilton-County-Transition-Fair-1.png
ORGANIZER;CN="Angie Cutrell":MAILTO:acutrell@thearctn.org
END:VEVENT
BEGIN:VEVENT
DTSTART;TZID=America/New_York:20250327T160000
DTEND;TZID=America/New_York:20250327T180000
DTSTAMP:20260423T042504
CREATED:20250225T234003Z
LAST-MODIFIED:20250307T001845Z
UID:2330-1743091200-1743098400@familyengagementtn.com
SUMMARY:Hawkins County Special Education Resource Fair
DESCRIPTION:Join us for the Hawkins County Special Education Resource Fair!  \nLocal and statewide organizations will be available to:\n– provide information about programs and supports for students with disabilities;\n– help students and families plan for a successful transition after high school; and\n– connect students and families with community resources\, education\, and employment services. \nRegister Here
URL:https://familyengagementtn.com/event/hawkins-county-special-education-resource-fair/
LOCATION:Rogersville Middle School\, 958 E McKinney Avenue\, Rogersville\, TN\, 37857
CATEGORIES:Family Training,Resource Fair,Special Education
ATTACH;FMTTYPE=image/png:https://familyengagementtn.com/wp-content/uploads/2025/02/327-Hawkins-County-Special-Education-Resource-Fair.png
ORGANIZER;CN="Allison Martin":MAILTO:amartin@thearctn.org
END:VEVENT
END:VCALENDAR