BEGIN:VCALENDAR
VERSION:2.0
PRODID:-//Family Engagement in Special Education - Tennessee - ECPv6.15.20//NONSGML v1.0//EN
CALSCALE:GREGORIAN
METHOD:PUBLISH
X-WR-CALNAME:Family Engagement in Special Education - Tennessee
X-ORIGINAL-URL:https://familyengagementtn.com
X-WR-CALDESC:Events for Family Engagement in Special Education - Tennessee
REFRESH-INTERVAL;VALUE=DURATION:PT1H
X-Robots-Tag:noindex
X-PUBLISHED-TTL:PT1H
BEGIN:VTIMEZONE
TZID:America/Chicago
BEGIN:DAYLIGHT
TZOFFSETFROM:-0600
TZOFFSETTO:-0500
TZNAME:CDT
DTSTART:20240310T080000
END:DAYLIGHT
BEGIN:STANDARD
TZOFFSETFROM:-0500
TZOFFSETTO:-0600
TZNAME:CST
DTSTART:20241103T070000
END:STANDARD
BEGIN:DAYLIGHT
TZOFFSETFROM:-0600
TZOFFSETTO:-0500
TZNAME:CDT
DTSTART:20250309T080000
END:DAYLIGHT
BEGIN:STANDARD
TZOFFSETFROM:-0500
TZOFFSETTO:-0600
TZNAME:CST
DTSTART:20251102T070000
END:STANDARD
BEGIN:DAYLIGHT
TZOFFSETFROM:-0600
TZOFFSETTO:-0500
TZNAME:CDT
DTSTART:20260308T080000
END:DAYLIGHT
BEGIN:STANDARD
TZOFFSETFROM:-0500
TZOFFSETTO:-0600
TZNAME:CST
DTSTART:20261101T070000
END:STANDARD
END:VTIMEZONE
BEGIN:VEVENT
DTSTART;TZID=America/Chicago:20250503T100000
DTEND;TZID=America/Chicago:20250503T130000
DTSTAMP:20260423T054109
CREATED:20250403T214521Z
LAST-MODIFIED:20250422T162449Z
UID:2358-1746266400-1746277200@familyengagementtn.com
SUMMARY:Fayette County Public Schools - Exceptional Children Parent Summit
DESCRIPTION:Join Us for the Fayette County Public Schools Special Education Resource Fair and a presentation by the Family Engagement project on “Special Education 101.” \nLocal and statewide organizations will be available to:\n– provide information about programs and supports for students with disabilities;\n– help students and families plan for a successful transition after high school; and\n– connect students and families with community resources\, education\, and employment services. \nAlso\, join the Family Engagement specialists for a presentation on “Special Education 101” to:\n– learn how parent involvement impacts student outcomes;\n– review rights under the Individuals with Disabilities Education Act (IDEA); and\n– understand the basics of an Individualized Education Program (IEP) and the initial process for eligible students. \nRegister Here!
URL:https://familyengagementtn.com/event/fayette-county-public-schools-exceptional-children-parent-summit/
LOCATION:Fayette County Public Schools – Central Administration Building\, 10425 Highway 76 S\, Somerville\, TN\, 38068
CATEGORIES:Family Training,Resource Fair,Special Education,Transition Fair
ATTACH;FMTTYPE=image/png:https://familyengagementtn.com/wp-content/uploads/2025/04/53-Fayette-County-1.png
ORGANIZER;CN="Sandra Hawkins":MAILTO:shawkins@thearctn.org
END:VEVENT
BEGIN:VEVENT
DTSTART;TZID=America/Chicago:20250507T150000
DTEND;TZID=America/Chicago:20250507T160000
DTSTAMP:20260423T054109
CREATED:20250115T195159Z
LAST-MODIFIED:20250203T232030Z
UID:2300-1746630000-1746633600@familyengagementtn.com
SUMMARY:May Monthly Office Hours for Educators
DESCRIPTION:Family Engagement in Special Education Monthly Office Hours for Educators – \n\n\n \n\n\nHave questions about Family Engagement in Special Education (FESPED) training? Want to connect with a specialist to talk about increasing family engagement to improve outcomes for students with disabilities? Join FESPED’s office hours on the first Wednesday of each month from 3:00 – 4:00 p.m. CST.
URL:https://familyengagementtn.com/event/may-monthly-office-hours-for-educators/
LOCATION:Zoom
CATEGORIES:Educator Event Category,Family Training,Special Education,Virtual
ATTACH;FMTTYPE=image/png:https://familyengagementtn.com/wp-content/uploads/2025/01/FESPED-Office-Hours-4.png
ORGANIZER;CN="FESPED - TN":MAILTO:specialeducation@thearctn.org
END:VEVENT
END:VCALENDAR