BEGIN:VCALENDAR
VERSION:2.0
PRODID:-//Family Engagement in Special Education - Tennessee - ECPv6.15.20//NONSGML v1.0//EN
CALSCALE:GREGORIAN
METHOD:PUBLISH
X-ORIGINAL-URL:https://familyengagementtn.com
X-WR-CALDESC:Events for Family Engagement in Special Education - Tennessee
REFRESH-INTERVAL;VALUE=DURATION:PT1H
X-Robots-Tag:noindex
X-PUBLISHED-TTL:PT1H
BEGIN:VTIMEZONE
TZID:America/Chicago
BEGIN:DAYLIGHT
TZOFFSETFROM:-0600
TZOFFSETTO:-0500
TZNAME:CDT
DTSTART:20240310T080000
END:DAYLIGHT
BEGIN:STANDARD
TZOFFSETFROM:-0500
TZOFFSETTO:-0600
TZNAME:CST
DTSTART:20241103T070000
END:STANDARD
BEGIN:DAYLIGHT
TZOFFSETFROM:-0600
TZOFFSETTO:-0500
TZNAME:CDT
DTSTART:20250309T080000
END:DAYLIGHT
BEGIN:STANDARD
TZOFFSETFROM:-0500
TZOFFSETTO:-0600
TZNAME:CST
DTSTART:20251102T070000
END:STANDARD
BEGIN:DAYLIGHT
TZOFFSETFROM:-0600
TZOFFSETTO:-0500
TZNAME:CDT
DTSTART:20260308T080000
END:DAYLIGHT
BEGIN:STANDARD
TZOFFSETFROM:-0500
TZOFFSETTO:-0600
TZNAME:CST
DTSTART:20261101T070000
END:STANDARD
END:VTIMEZONE
BEGIN:VEVENT
DTSTART;TZID=America/Chicago:20250826T180000
DTEND;TZID=America/Chicago:20250826T190000
DTSTAMP:20260423T054539
CREATED:20250806T001715Z
LAST-MODIFIED:20250807T205532Z
UID:2464-1756231200-1756234800@familyengagementtn.com
SUMMARY:South Central Tennessee Community Conversation
DESCRIPTION:Join The Arc Tennessee’s Family Engagement team for a conversation about special education in Tennessee! \nYour input will be shared with the Department of Education to help guide resources and provide meaningful feedback to schools and districts. \nAnyone involved in special education is encouraged to attend—especially students\, families\, educators\, school board members\, community members\, and business leaders. \nRegister Here
URL:https://familyengagementtn.com/event/south-central-tennessee-community-conversation/
LOCATION:Tullahoma First Methodist\, Family Activity Center\, 210 W. Lauderdale Street\, Tullahoma\, TN\, 37388
CATEGORIES:Community Conversation,Special Education
ATTACH;FMTTYPE=image/png:https://familyengagementtn.com/wp-content/uploads/2025/08/South-Central-Community-Conversation.png
ORGANIZER;CN="Beth Harrison":MAILTO:bharrison@thearctn.org
END:VEVENT
END:VCALENDAR