BEGIN:VCALENDAR
VERSION:2.0
PRODID:-//Family Engagement in Special Education - Tennessee - ECPv6.15.20//NONSGML v1.0//EN
CALSCALE:GREGORIAN
METHOD:PUBLISH
X-ORIGINAL-URL:https://familyengagementtn.com
X-WR-CALDESC:Events for Family Engagement in Special Education - Tennessee
REFRESH-INTERVAL;VALUE=DURATION:PT1H
X-Robots-Tag:noindex
X-PUBLISHED-TTL:PT1H
BEGIN:VTIMEZONE
TZID:America/New_York
BEGIN:DAYLIGHT
TZOFFSETFROM:-0500
TZOFFSETTO:-0400
TZNAME:EDT
DTSTART:20250309T070000
END:DAYLIGHT
BEGIN:STANDARD
TZOFFSETFROM:-0400
TZOFFSETTO:-0500
TZNAME:EST
DTSTART:20251102T060000
END:STANDARD
BEGIN:DAYLIGHT
TZOFFSETFROM:-0500
TZOFFSETTO:-0400
TZNAME:EDT
DTSTART:20260308T070000
END:DAYLIGHT
BEGIN:STANDARD
TZOFFSETFROM:-0400
TZOFFSETTO:-0500
TZNAME:EST
DTSTART:20261101T060000
END:STANDARD
BEGIN:DAYLIGHT
TZOFFSETFROM:-0500
TZOFFSETTO:-0400
TZNAME:EDT
DTSTART:20270314T070000
END:DAYLIGHT
BEGIN:STANDARD
TZOFFSETFROM:-0400
TZOFFSETTO:-0500
TZNAME:EST
DTSTART:20271107T060000
END:STANDARD
END:VTIMEZONE
BEGIN:VTIMEZONE
TZID:America/Chicago
BEGIN:DAYLIGHT
TZOFFSETFROM:-0600
TZOFFSETTO:-0500
TZNAME:CDT
DTSTART:20250309T080000
END:DAYLIGHT
BEGIN:STANDARD
TZOFFSETFROM:-0500
TZOFFSETTO:-0600
TZNAME:CST
DTSTART:20251102T070000
END:STANDARD
BEGIN:DAYLIGHT
TZOFFSETFROM:-0600
TZOFFSETTO:-0500
TZNAME:CDT
DTSTART:20260308T080000
END:DAYLIGHT
BEGIN:STANDARD
TZOFFSETFROM:-0500
TZOFFSETTO:-0600
TZNAME:CST
DTSTART:20261101T070000
END:STANDARD
BEGIN:DAYLIGHT
TZOFFSETFROM:-0600
TZOFFSETTO:-0500
TZNAME:CDT
DTSTART:20270314T080000
END:DAYLIGHT
BEGIN:STANDARD
TZOFFSETFROM:-0500
TZOFFSETTO:-0600
TZNAME:CST
DTSTART:20271107T070000
END:STANDARD
END:VTIMEZONE
BEGIN:VEVENT
DTSTART;TZID=America/New_York:20260311T120000
DTEND;TZID=America/New_York:20260311T130000
DTSTAMP:20260423T033444
CREATED:20260130T220350Z
LAST-MODIFIED:20260205T233203Z
UID:2866-1773230400-1773234000@familyengagementtn.com
SUMMARY:Southeast Tennessee Region - Community of Practice
DESCRIPTION:Join Family Engagement in Special Education for a Community of Practice event focused on Avoiding Conflict and Ensuring Positive Outcomes for Students.  \nEducators and administrators from the Southeast Tennessee region will connect and learn proactive communication and conflict resolution strategies to strengthen relationships with families and students. \nThis event will be offered in both in-person and virtual formats. A Zoom link will be provided upon registration. \n Certificates of attendance will be available. \nRegister Here
URL:https://familyengagementtn.com/event/southeast-tennessee-region-community-of-practice/
LOCATION:Siskin Children’s Institute\, 1101 Carter Street\, Chattanooga\, TN\, 37402
CATEGORIES:Community of Practice,Educator Training,Special Education
ATTACH;FMTTYPE=image/png:https://familyengagementtn.com/wp-content/uploads/2026/01/3_11_Southeast_TN_Community_of_Practice.png
ORGANIZER;CN="Angie Cutrell":MAILTO:acutrell@thearctn.org
END:VEVENT
BEGIN:VEVENT
DTSTART;TZID=America/New_York:20260312T123000
DTEND;TZID=America/New_York:20260312T140000
DTSTAMP:20260423T033444
CREATED:20260218T173825Z
LAST-MODIFIED:20260219T200203Z
UID:2881-1773318600-1773324000@familyengagementtn.com
SUMMARY:Johnson City Schools Spring Transition Fair
DESCRIPTION:Join The Arc Tennessee’s Family Engagement in Special Education team for the Johnson City Schools Spring Transition Fair!\nAre you looking for resources and support to help prepare your student for life after high school? This transition fair is a great way to explore college and career readiness programs\, ask questions\, and connect with other families on a similar special education journey. Come discover opportunities\, meet experts\, and find the tools your family needs to support your student’s transition into higher education\, employment\, and independent living. \nDon’t miss out—join us and start planning for the future today! \nRegister Here
URL:https://familyengagementtn.com/event/johnson-city-schools-spring-transition-fair/
LOCATION:Freedom Hall Civic Center\, Auxiliary Gym\, 1320 Pactolas Road\, Johnson City\, TN\, 37604
CATEGORIES:Family Training,Parent Training,Resource Fair,Special Education,Transition Fair
ATTACH;FMTTYPE=application/pdf:https://familyengagementtn.com/wp-content/uploads/2026/02/03122026_Johnson­_City_Schools_Spring_Transition_Fair.pdf
ORGANIZER;CN="Kristie Irvin":MAILTO:kirvin@thearctn.org
END:VEVENT
BEGIN:VEVENT
DTSTART;TZID=America/New_York:20260319T160000
DTEND;TZID=America/New_York:20260319T180000
DTSTAMP:20260423T033444
CREATED:20260306T200504Z
LAST-MODIFIED:20260317T165024Z
UID:2889-1773936000-1773943200@familyengagementtn.com
SUMMARY:Polk County Schools Family Resource Fair
DESCRIPTION:Join The Arc TN Family Engagement in Special Education and the Polk County Schools Resource Fair!      \nLocal and statewide organizations will be available to:    \n– Provide information about programs and supports for students with disabilities.   \n– Help students and families plan for a successful transition after high school.  \n– Connect students and families with community resources\, education\, and employment services.  \nRegister Today!
URL:https://familyengagementtn.com/event/polk-county-schools-family-resource-fair/
LOCATION:Copper Basin High School\, 300 Cougar Drive\, Copperhill\, TN\, 37317\, United States
CATEGORIES:Educator Training,Family Training,Resource Fair,Special Education,Tennessee
ATTACH;FMTTYPE=image/jpeg:https://familyengagementtn.com/wp-content/uploads/2026/03/03192026_polk_county_resource_fair.jpg
ORGANIZER;CN="Angie Cutrell":MAILTO:acutrell@thearctn.org
END:VEVENT
BEGIN:VEVENT
DTSTART;TZID=America/Chicago:20260401T150000
DTEND;TZID=America/Chicago:20260401T160000
DTSTAMP:20260423T033444
CREATED:20251218T184240Z
LAST-MODIFIED:20251218T184818Z
UID:2799-1775055600-1775059200@familyengagementtn.com
SUMMARY:April Monthly Office Hours for Educators
DESCRIPTION:Family Engagement in Special Education Monthly Office Hours for Educators – \n\n\n \n\n\nHave questions about Family Engagement in Special Education (FESPED) training? Want to connect with a specialist to talk about increasing family engagement to improve outcomes for students with disabilities? Join FESPED’s office hours on the first Wednesday of each month from 3:00 – 4:00 p.m. CT.
URL:https://familyengagementtn.com/event/april-monthly-office-hours-for-educator/
LOCATION:Virtual Office Hours – Zoom
CATEGORIES:Educator Event Category,Special Education,Virtual
ATTACH;FMTTYPE=image/png:https://familyengagementtn.com/wp-content/uploads/2025/01/FESPED-Office-Hours-4.png
END:VEVENT
BEGIN:VEVENT
DTSTART;TZID=America/Chicago:20260423T120000
DTEND;TZID=America/Chicago:20260423T133000
DTSTAMP:20260423T033444
CREATED:20260402T221211Z
LAST-MODIFIED:20260422T173204Z
UID:2965-1776945600-1776951000@familyengagementtn.com
SUMMARY:Overview of the Individualized Education Program (IEP) Virtual Series for Families
DESCRIPTION:Join The Arc Tennessee’s Family Engagement in Special Education team for a virtual session focused on understanding the individualized education program (IEP) process and how it supports your child.  \nFamilies will:\n– Learn the basics of an IEP and how students become eligible.\n– Review parent and student rights under the Individuals with Disabilities Education Act (IDEA).\n– Explore how parent involvement supports strong IEPs and positive student outcomes. \nThis session will help families feel informed and prepared to participate as active members of their child’s IEP team. \nRegister Here
URL:https://familyengagementtn.com/event/overview-of-the-individualized-education-program-iep-virtual-series-for-families/
LOCATION:Zoom
CATEGORIES:Family Training,Special Education,Virtual
ATTACH;FMTTYPE=application/pdf:https://familyengagementtn.com/wp-content/uploads/2026/04/04232026_overview_iep_virtual_series_for_families.pdf
ORGANIZER;CN="Emily Whitson":MAILTO:ewhitson@thearctn.org
END:VEVENT
BEGIN:VEVENT
DTSTART;TZID=America/New_York:20260429T120000
DTEND;TZID=America/New_York:20260429T130000
DTSTAMP:20260423T033444
CREATED:20260402T213101Z
LAST-MODIFIED:20260420T183516Z
UID:2961-1777464000-1777467600@familyengagementtn.com
SUMMARY:Southeast Tennessee - Overview of the Individualized Education Program (IEP) for Families
DESCRIPTION:Join The Arc Tennessee’s Family Engagement in Special Education team for a parent event focused on understanding the individualized education program (IEP) process and how it supports your child.  \nFamilies will:\n– Learn the basics of an IEP and how students become eligible.\n– Review parent and student rights under the Individuals with Disabilities Education Act (IDEA).\n– Explore how parent involvement supports strong IEPs and positive student outcomes. \nThis session will help families feel informed and prepared to participate as active members of their child’s IEP team. \nRegister Here
URL:https://familyengagementtn.com/event/2961/
LOCATION:Siskin Children’s Institute\, 1101 Carter Street\, Chattanooga\, TN\, 37402
CATEGORIES:Family Training,Special Education
ATTACH;FMTTYPE=image/jpeg:https://familyengagementtn.com/wp-content/uploads/2026/04/apr2926_southeast_overview_of_the_iep-1.jpg
ORGANIZER;CN="Angie Cutrell":MAILTO:acutrell@thearctn.org
END:VEVENT
BEGIN:VEVENT
DTSTART;TZID=America/Chicago:20260506T150000
DTEND;TZID=America/Chicago:20260506T160000
DTSTAMP:20260423T033444
CREATED:20251218T184307Z
LAST-MODIFIED:20251218T184911Z
UID:2800-1778079600-1778083200@familyengagementtn.com
SUMMARY:May Monthly Office Hours for Educators
DESCRIPTION:Family Engagement in Special Education Monthly Office Hours for Educators – \n\n\n \n\n\nHave questions about Family Engagement in Special Education (FESPED) training? Want to connect with a specialist to talk about increasing family engagement to improve outcomes for students with disabilities? Join FESPED’s office hours on the first Wednesday of each month from 3:00 – 4:00 p.m. CT.
URL:https://familyengagementtn.com/event/may-monthly-office-hours-for-educators-2/
LOCATION:Virtual Office Hours – Zoom
CATEGORIES:Educator Event Category,Special Education,Virtual
ATTACH;FMTTYPE=image/png:https://familyengagementtn.com/wp-content/uploads/2025/01/FESPED-Office-Hours-4.png
END:VEVENT
END:VCALENDAR