BEGIN:VCALENDAR
VERSION:2.0
PRODID:-//Family Engagement in Special Education - Tennessee - ECPv6.15.20//NONSGML v1.0//EN
CALSCALE:GREGORIAN
METHOD:PUBLISH
X-WR-CALNAME:Family Engagement in Special Education - Tennessee
X-ORIGINAL-URL:https://familyengagementtn.com
X-WR-CALDESC:Events for Family Engagement in Special Education - Tennessee
REFRESH-INTERVAL;VALUE=DURATION:PT1H
X-Robots-Tag:noindex
X-PUBLISHED-TTL:PT1H
BEGIN:VTIMEZONE
TZID:America/Chicago
BEGIN:DAYLIGHT
TZOFFSETFROM:-0600
TZOFFSETTO:-0500
TZNAME:CDT
DTSTART:20230312T080000
END:DAYLIGHT
BEGIN:STANDARD
TZOFFSETFROM:-0500
TZOFFSETTO:-0600
TZNAME:CST
DTSTART:20231105T070000
END:STANDARD
BEGIN:DAYLIGHT
TZOFFSETFROM:-0600
TZOFFSETTO:-0500
TZNAME:CDT
DTSTART:20240310T080000
END:DAYLIGHT
BEGIN:STANDARD
TZOFFSETFROM:-0500
TZOFFSETTO:-0600
TZNAME:CST
DTSTART:20241103T070000
END:STANDARD
BEGIN:DAYLIGHT
TZOFFSETFROM:-0600
TZOFFSETTO:-0500
TZNAME:CDT
DTSTART:20250309T080000
END:DAYLIGHT
BEGIN:STANDARD
TZOFFSETFROM:-0500
TZOFFSETTO:-0600
TZNAME:CST
DTSTART:20251102T070000
END:STANDARD
END:VTIMEZONE
BEGIN:VTIMEZONE
TZID:America/New_York
BEGIN:DAYLIGHT
TZOFFSETFROM:-0500
TZOFFSETTO:-0400
TZNAME:EDT
DTSTART:20230312T070000
END:DAYLIGHT
BEGIN:STANDARD
TZOFFSETFROM:-0400
TZOFFSETTO:-0500
TZNAME:EST
DTSTART:20231105T060000
END:STANDARD
BEGIN:DAYLIGHT
TZOFFSETFROM:-0500
TZOFFSETTO:-0400
TZNAME:EDT
DTSTART:20240310T070000
END:DAYLIGHT
BEGIN:STANDARD
TZOFFSETFROM:-0400
TZOFFSETTO:-0500
TZNAME:EST
DTSTART:20241103T060000
END:STANDARD
BEGIN:DAYLIGHT
TZOFFSETFROM:-0500
TZOFFSETTO:-0400
TZNAME:EDT
DTSTART:20250309T070000
END:DAYLIGHT
BEGIN:STANDARD
TZOFFSETFROM:-0400
TZOFFSETTO:-0500
TZNAME:EST
DTSTART:20251102T060000
END:STANDARD
END:VTIMEZONE
BEGIN:VEVENT
DTSTART;TZID=America/Chicago:20240801T100000
DTEND;TZID=America/Chicago:20240801T110000
DTSTAMP:20260422T065003
CREATED:20240627T210224Z
LAST-MODIFIED:20240628T193559Z
UID:2057-1722506400-1722510000@familyengagementtn.com
SUMMARY:Family Engagement in Special Education- Milan Special School District - Gibson Co.
DESCRIPTION:Educators and administrators from the Milan Special School District – Gibson County will have an opportunity to network and learn more about the Family Engagement project under the TN-TAN network. Certificates of attendance will be available! \nRegister Here\n 
URL:https://familyengagementtn.com/event/family-engagement-in-special-education-milan-special-school-district-gibson-co/
LOCATION:Milan District Office\, 1165 S. Main St.\, Milan\, TN\, 38358
CATEGORIES:Community of Practice
ORGANIZER;CN="Annette Graves":MAILTO:agraves@thearctn.org
END:VEVENT
BEGIN:VEVENT
DTSTART;TZID=America/Chicago:20240813T180000
DTEND;TZID=America/Chicago:20240813T190000
DTSTAMP:20260422T065003
CREATED:20240716T183110Z
LAST-MODIFIED:20240718T230522Z
UID:2067-1723572000-1723575600@familyengagementtn.com
SUMMARY:Introduction to Family Engagement in MNPS
DESCRIPTION:Let’s kick off the new school year with an introduction to family engagement! MNPS partners with The Arc TN Family Engagement Team to introduce district staff members\, review MNPS structures\, and learn about the resources and support that the Family Engagement Team has to offer. Join us for an informative session that you do not want to miss! \nRegister Today!
URL:https://familyengagementtn.com/event/introduction-to-family-engagement-in-mnps/
LOCATION:Harris-Hillman High School\, 1706 26th Ave\, Nashville\, TN\, 37212
CATEGORIES:Family Training,Parent Training,Special Education,Support Group
ORGANIZER;CN="Taylor Laymon":MAILTO:tlaymon@thearctn.org
END:VEVENT
BEGIN:VEVENT
DTSTART;TZID=America/Chicago:20240817T100000
DTEND;TZID=America/Chicago:20240817T120000
DTSTAMP:20260422T065003
CREATED:20240716T175700Z
LAST-MODIFIED:20240716T214041Z
UID:2066-1723888800-1723896000@familyengagementtn.com
SUMMARY:Southwest TN Community Conversation
DESCRIPTION:Join us for an important conversation about special education across the state of TN! Family Engagement in Special Education invites all parents\, students\, educators\, service providers\, community stakeholders and advocates from across the state to give input. We want to know what you think is going well in special education\, what supports and guidance are needed and where to focus improvement efforts. Feedback from this session goes directly to the TN Department of Education to know where the best progress has been made and to help them direct priorities going forward. Your voice is vital and we value your input.\n\nRegister Today!
URL:https://familyengagementtn.com/event/southwest-tn-community-conversation/
LOCATION:St Luke Lutheran Church\, 2000 North Germantown Parkway\, Cordova\, TN\, 38016
CATEGORIES:Community Conversation
ORGANIZER;CN="Sandra Hawkins":MAILTO:shawkins@thearctn.org
END:VEVENT
BEGIN:VEVENT
DTSTART;TZID=America/Chicago:20240820T180000
DTEND;TZID=America/Chicago:20240820T190000
DTSTAMP:20260422T065003
CREATED:20240729T221133Z
LAST-MODIFIED:20240806T183037Z
UID:2097-1724176800-1724180400@familyengagementtn.com
SUMMARY:FSSD Parent Night - Intro to Family Engagement
DESCRIPTION:Let’s kick off the new school year with an introduction to family engagement! FSSD partners with The Arc TN Family Engagement team to introduce district staff members\, review FSSD structures\, and learn about the resources and support that the Family Engagement team has to offer. Join us for an informative session that you do not want to miss! \nRegister Today!
URL:https://familyengagementtn.com/event/fssd-parent-night-intro-to-family-engagement/
LOCATION:Zoom
CATEGORIES:Family Training,Parent Training,Special Education,Support Group
ORGANIZER;CN="Taylor Laymon":MAILTO:tlaymon@thearctn.org
END:VEVENT
BEGIN:VEVENT
DTSTART;TZID=America/New_York:20240824T100000
DTEND;TZID=America/New_York:20240824T160000
DTSTAMP:20260422T065003
CREATED:20240731T224020Z
LAST-MODIFIED:20240801T170355Z
UID:2099-1724493600-1724515200@familyengagementtn.com
SUMMARY:East TN Regional Special Education Family Resource & Fun Day!
DESCRIPTION:Join us for a vibrant event sharing community resources and family fun! \nWe will have a variety of state and regional providers with information about disability-specific transitions\, pre-K\, IEPs\, estate and financial planning\, care planning and more! \nFeaturing: Assistive Technology Roadshow\, WorkAble TN\, The Center for Decision Making Supports\, Emory Valley Center\, OneKnox Sports\, TN Disability Pathfinder\, National Alliance on Mental Illness\, TN Voices\, Spelling2Communicate with the Peyton Project and many others! \nThis is an indoor event with accessible parking and restrooms. \nRegister Today!
URL:https://familyengagementtn.com/event/east-tn-regional-special-education-family-resource-fun-day/
LOCATION:Roane State Community College\, Oak Ridge Campus\, 701 Briarcliff Ave\, Oak Ridge\, TN\, 37830
CATEGORIES:Resource Fair,Special Education
ORGANIZER;CN="Shannon Efteland":MAILTO:sefteland@thearctn.org
END:VEVENT
BEGIN:VEVENT
DTSTART;TZID=America/New_York:20240824T120000
DTEND;TZID=America/New_York:20240824T140000
DTSTAMP:20260422T065003
CREATED:20240716T214244Z
LAST-MODIFIED:20240801T170455Z
UID:2073-1724500800-1724508000@familyengagementtn.com
SUMMARY:East TN Community Conversation and Resource Fair
DESCRIPTION:Join us for an important conversation about special education across the state of TN! Family Engagement in Special Education invites all parents\, students\, educators\, service providers\, community stakeholders and advocates from across the state to give input. We want to know what you think is going well in special education\, what supports and guidance are needed and where to focus improvement efforts. Feedback from this session goes directly to the TN Department of Education to know where the best progress has been made and to help them direct priorities going forward. Your voice is vital and we value your input.\n\nRegister Today!\n\nThis conversation will be part of a Family Resource Fair which will be held from 10-4. Bring your family\, enjoy the fun and explore the resources before or after this conversation
URL:https://familyengagementtn.com/event/east-tn-community-conversation/
LOCATION:Roane State Community College Oak Ridge Campus\, McNally Building\, 701 Briarcliff Ave\, Oak Ridge\, TN\, 37830
CATEGORIES:Community Conversation,Special Education
ORGANIZER;CN="Shannon Efteland":MAILTO:sefteland@thearctn.org
END:VEVENT
BEGIN:VEVENT
DTSTART;TZID=America/Chicago:20240826T160000
DTEND;TZID=America/Chicago:20240826T170000
DTSTAMP:20260422T065003
CREATED:20240716T220433Z
LAST-MODIFIED:20240801T173351Z
UID:2076-1724688000-1724691600@familyengagementtn.com
SUMMARY:Northwest TN Community Conversation
DESCRIPTION:Join us for an important conversation about special education across the state of TN! Family Engagement in Special Education invites all parents\, students\, educators\, service providers\, community stakeholders and advocates from across the state to give input. We want to know what you think is going well in special education\, what supports and guidance are needed and where to focus improvement efforts. Feedback from this session goes directly to the TN Department of Education to know where the best progress has been made and to help them direct priorities going forward. Your voice is vital and we value your input. \nRegister Today!
URL:https://familyengagementtn.com/event/northwest-tn-community-conversation/
LOCATION:Nova Early Learning Center\, 248 Bedford White Rd.\, Jackson\, TN\, 38305
CATEGORIES:Community Conversation,Special Education
ORGANIZER;CN="Annette Graves":MAILTO:agraves@thearctn.org
END:VEVENT
BEGIN:VEVENT
DTSTART;TZID=America/Chicago:20240826T180000
DTEND;TZID=America/Chicago:20240826T190000
DTSTAMP:20260422T065003
CREATED:20240820T205941Z
LAST-MODIFIED:20240826T225638Z
UID:2121-1724695200-1724698800@familyengagementtn.com
SUMMARY:South Central Parent Support Group - Family Engagement (Introduction)
DESCRIPTION:Join us for an engaging and insightful session on the Family Engagement Project! We’ll dive into the amazing work we’re doing\, explore how both families and teachers can get involved\, and uncover why active family participation is a game-changer for student success. \n\nWe’re eager to hear your thoughts\, answer your questions\, and dive into some lively discussions afterward. Your input and curiosity will make this event even more dynamic and impactful. \n  \nRegister Today!
URL:https://familyengagementtn.com/event/south-central-parent-support-group-family-engagement-introduction/
LOCATION:UT Southern\, Martin Hall\, 433 West Madison Street\, Warren Wilson Room\, Pulaski\, TN\, 38478
CATEGORIES:Family Training,Support Group
ORGANIZER;CN="Susan Carr":MAILTO:scarr@thearctn.org
END:VEVENT
BEGIN:VEVENT
DTSTART;TZID=America/Chicago:20240827T170000
DTEND;TZID=America/Chicago:20240827T190000
DTSTAMP:20260422T065003
CREATED:20240719T225710Z
LAST-MODIFIED:20240809T211608Z
UID:2092-1724778000-1724785200@familyengagementtn.com
SUMMARY:Upper Cumberland Community Conversation
DESCRIPTION:Join us for an important conversation about special education across the state of TN! Family Engagement in Special Education invites all parents\, students\, educators\, service providers\, community stakeholders and advocates from across the state to give input. We want to know what you think is going well in special education\, what supports and guidance are needed and where to focus improvement efforts. Feedback from this session goes directly to the TN Department of Education to know where the best progress has been made and to help them direct priorities going forward. Your voice is vital and we value your input. \n  \nRegister Today!
URL:https://familyengagementtn.com/event/upper-cumberland-community-conversation/
LOCATION:Cumberland Fellowship Church – Bldg. 456\, 1640 West Ave.\, Crossville\, TN\, 38555
CATEGORIES:Community Conversation
ORGANIZER;CN="Kristie Irvin":MAILTO:kirvin@thearctn.org
END:VEVENT
BEGIN:VEVENT
DTSTART;TZID=America/Chicago:20240827T180000
DTEND;TZID=America/Chicago:20240827T190000
DTSTAMP:20260422T065003
CREATED:20240731T230734Z
LAST-MODIFIED:20240809T211934Z
UID:2101-1724781600-1724785200@familyengagementtn.com
SUMMARY:Williamson County Parent Night - Intro to Family Engagement
DESCRIPTION:Let’s kick off the new school year with an introduction to family engagement! Williamson County partners with The Arc TN Family Engagement Team to introduce district staff members\, review Williamson County structures\, and learn about the resources and support that the Family Engagement Team has to offer. Join us for an informative session that you do not want to miss! \nRegister Today!
URL:https://familyengagementtn.com/event/williamson-county-parent-night-intro-to-family-engagement/
LOCATION:Zoom
CATEGORIES:Family Training,Special Education,Support Group
ORGANIZER;CN="Taylor Laymon":MAILTO:tlaymon@thearctn.org
END:VEVENT
BEGIN:VEVENT
DTSTART;TZID=America/New_York:20240828T100000
DTEND;TZID=America/New_York:20240828T120000
DTSTAMP:20260422T065003
CREATED:20240716T222811Z
LAST-MODIFIED:20240722T152026Z
UID:2079-1724839200-1724846400@familyengagementtn.com
SUMMARY:Southeast TN Community Conversation
DESCRIPTION:Join us for an important conversation about special education across the state of TN! Family Engagement in Special Education invites all parents\, students\, educators\, service providers\, community stakeholders and advocates from across the state to give input. We want to know what you think is going well in special education\, what supports and guidance are needed and where to focus improvement efforts. Feedback from this session goes directly to the TN Department of Education to know where the best progress has been made and to help them direct priorities going forward. Your voice is vital and we value your input. \nRegister Today!
URL:https://familyengagementtn.com/event/southeast-tn-community-conversation/
LOCATION:Siskin Children’s Institute\, 1101 Carter Street\, Chattanooga\, TN\, 37402
CATEGORIES:Community Conversation
ORGANIZER;CN="Susan Carr":MAILTO:scarr@thearctn.org
END:VEVENT
BEGIN:VEVENT
DTSTART;TZID=America/Chicago:20240829T163000
DTEND;TZID=America/Chicago:20240829T193000
DTSTAMP:20260422T065003
CREATED:20240717T225418Z
LAST-MODIFIED:20240826T225807Z
UID:2085-1724949000-1724959800@familyengagementtn.com
SUMMARY:Mid-Cumberland Community Conversation and Resource Fair
DESCRIPTION:Join us for an important conversation about special education across the state of TN! Family Engagement in Special Education invites all parents\, students\, educators\, service providers\, community stakeholders and advocates from across the state to give input. We want to know what you think is going well in special education\, what supports and guidance are needed and where to focus improvement efforts. Feedback from this session goes directly to the TN Department of Education to know where the best progress has been made and to help them direct priorities going forward. Your voice is vital and we value your input. \nRegister Today!\n\nThis conversation will be part of a Family Resource Fair. Bring your family\, enjoy the fun and explore the resources before or after this conversation.
URL:https://familyengagementtn.com/event/mid-cumberland-community-conversation/
LOCATION:MNPS Wellness Center\, 2694 Fessey Ct\, Berry Hill\, TN\, 37204
CATEGORIES:Community Conversation
ORGANIZER;CN="Taylor Laymon":MAILTO:tlaymon@thearctn.org
END:VEVENT
BEGIN:VEVENT
DTSTART;TZID=America/New_York:20240829T173000
DTEND;TZID=America/New_York:20240829T183000
DTSTAMP:20260422T065003
CREATED:20240717T232150Z
LAST-MODIFIED:20240809T215338Z
UID:2087-1724952600-1724956200@familyengagementtn.com
SUMMARY:First TN Community Conversation
DESCRIPTION:Join us for an important conversation about special education across the state of TN! Family Engagement in Special Education invites all parents\, students\, educators\, service providers\, community stakeholders and advocates from across the state to give input. We want to know what you think is going well in special education\, what supports and guidance are needed and where to focus improvement efforts. Feedback from this session goes directly to the TN Department of Education to know where the best progress has been made and to help them direct priorities going forward. Your voice is vital and we value your input. \nRegister Today!
URL:https://familyengagementtn.com/event/first-tn-community-conversation/
LOCATION:Johnson City Public Library\, 100 West Millard Street\, Johnson City\, TN\, 37604
CATEGORIES:Community of Practice,Special Education
ORGANIZER;CN="Allison Martin":MAILTO:amartin@thearctn.org
END:VEVENT
BEGIN:VEVENT
DTSTART;TZID=America/Chicago:20240829T180000
DTEND;TZID=America/Chicago:20240829T190000
DTSTAMP:20260422T065003
CREATED:20240716T224714Z
LAST-MODIFIED:20240809T214132Z
UID:2081-1724954400-1724958000@familyengagementtn.com
SUMMARY:South Central Community Conversations
DESCRIPTION:Join us for an important conversation about special education across the state of TN! Family Engagement in Special Education invites all parents\, students\, educators\, service providers\, community stakeholders and advocates from across the state to give input. We want to know what you think is going well in special education\, what supports and guidance are needed and where to focus improvement efforts. Feedback from this session goes directly to the TN Department of Education to know where the best progress has been made and to help them direct priorities going forward. Your voice is vital and we value your input. \n  \nRegister Today!
URL:https://familyengagementtn.com/event/south-central-community-conversations/
LOCATION:Tullahoma First Methodist Church- Family Activity Center\, 210 W. Lauderdale Street\, Tullahoma\, TN\, 37388
CATEGORIES:Community Conversation,Special Education
ORGANIZER;CN="Beth Harrison":MAILTO:bharrison@thearctn.org
END:VEVENT
END:VCALENDAR