BEGIN:VCALENDAR
VERSION:2.0
PRODID:-//Family Engagement in Special Education - Tennessee - ECPv6.15.20//NONSGML v1.0//EN
CALSCALE:GREGORIAN
METHOD:PUBLISH
X-WR-CALNAME:Family Engagement in Special Education - Tennessee
X-ORIGINAL-URL:https://familyengagementtn.com
X-WR-CALDESC:Events for Family Engagement in Special Education - Tennessee
REFRESH-INTERVAL;VALUE=DURATION:PT1H
X-Robots-Tag:noindex
X-PUBLISHED-TTL:PT1H
BEGIN:VTIMEZONE
TZID:America/Chicago
BEGIN:DAYLIGHT
TZOFFSETFROM:-0600
TZOFFSETTO:-0500
TZNAME:CDT
DTSTART:20240310T080000
END:DAYLIGHT
BEGIN:STANDARD
TZOFFSETFROM:-0500
TZOFFSETTO:-0600
TZNAME:CST
DTSTART:20241103T070000
END:STANDARD
BEGIN:DAYLIGHT
TZOFFSETFROM:-0600
TZOFFSETTO:-0500
TZNAME:CDT
DTSTART:20250309T080000
END:DAYLIGHT
BEGIN:STANDARD
TZOFFSETFROM:-0500
TZOFFSETTO:-0600
TZNAME:CST
DTSTART:20251102T070000
END:STANDARD
BEGIN:DAYLIGHT
TZOFFSETFROM:-0600
TZOFFSETTO:-0500
TZNAME:CDT
DTSTART:20260308T080000
END:DAYLIGHT
BEGIN:STANDARD
TZOFFSETFROM:-0500
TZOFFSETTO:-0600
TZNAME:CST
DTSTART:20261101T070000
END:STANDARD
END:VTIMEZONE
BEGIN:VEVENT
DTSTART;TZID=America/Chicago:20251016T100000
DTEND;TZID=America/Chicago:20251016T100000
DTSTAMP:20260419T152037
CREATED:20250916T223315Z
LAST-MODIFIED:20250926T202819Z
UID:2678-1760608800-1760608800@familyengagementtn.com
SUMMARY:Middle Tennessee Special Education Advocacy Networking Group
DESCRIPTION:Join us in person or on Zoom for the fall Special Education Advocacy Networking Group (SPEDANG). \nAdvocacy groups that work with school-aged children receiving special education services are invited to an open discussion about special education in Tennessee. \nA Tennessee Department of Education representative will provide updates and answer questions. Feedback from these events is shared with the state. \nRegister Today
URL:https://familyengagementtn.com/event/middle-tennessee-special-education-advocacy-networking-group-2/
LOCATION:Saint Andrew Lutheran Church\, 908 Murfreesboro Road\, Franklin\, TN\, 37064
CATEGORIES:SPEDANG
ATTACH;FMTTYPE=image/png:https://familyengagementtn.com/wp-content/uploads/2025/09/MIddle-Tennessee-Special-Education-Advocacy-Networking-Group-SPEDANG.png
ORGANIZER;CN="Beth Harrison":MAILTO:bharrison@thearctn.org
END:VEVENT
END:VCALENDAR