BEGIN:VCALENDAR
VERSION:2.0
PRODID:-//Family Engagement in Special Education - Tennessee - ECPv6.15.20//NONSGML v1.0//EN
CALSCALE:GREGORIAN
METHOD:PUBLISH
X-ORIGINAL-URL:https://familyengagementtn.com
X-WR-CALDESC:Events for Family Engagement in Special Education - Tennessee
REFRESH-INTERVAL;VALUE=DURATION:PT1H
X-Robots-Tag:noindex
X-PUBLISHED-TTL:PT1H
BEGIN:VTIMEZONE
TZID:America/Chicago
BEGIN:DAYLIGHT
TZOFFSETFROM:-0600
TZOFFSETTO:-0500
TZNAME:CDT
DTSTART:20240310T080000
END:DAYLIGHT
BEGIN:STANDARD
TZOFFSETFROM:-0500
TZOFFSETTO:-0600
TZNAME:CST
DTSTART:20241103T070000
END:STANDARD
BEGIN:DAYLIGHT
TZOFFSETFROM:-0600
TZOFFSETTO:-0500
TZNAME:CDT
DTSTART:20250309T080000
END:DAYLIGHT
BEGIN:STANDARD
TZOFFSETFROM:-0500
TZOFFSETTO:-0600
TZNAME:CST
DTSTART:20251102T070000
END:STANDARD
BEGIN:DAYLIGHT
TZOFFSETFROM:-0600
TZOFFSETTO:-0500
TZNAME:CDT
DTSTART:20260308T080000
END:DAYLIGHT
BEGIN:STANDARD
TZOFFSETFROM:-0500
TZOFFSETTO:-0600
TZNAME:CST
DTSTART:20261101T070000
END:STANDARD
END:VTIMEZONE
BEGIN:VEVENT
DTSTART;TZID=America/Chicago:20250825T160000
DTEND;TZID=America/Chicago:20250825T170000
DTSTAMP:20260422T071312
CREATED:20250725T221742Z
LAST-MODIFIED:20250806T175434Z
UID:2482-1756137600-1756141200@familyengagementtn.com
SUMMARY:Northwest Tennessee Community Conversation
DESCRIPTION:Join The Arc Tennessee’s Family Engagement team for a conversation about special education in Tennessee! \nYour input will be shared with the Department of Education to help guide resources and provide meaningful feedback to schools and districts. \nAnyone involved in special education is encouraged to attend—especially students\, families\, educators\, school board members\, community members\, and business leaders. \nRegister here
URL:https://familyengagementtn.com/event/northwest-tennessee-community-conversation/
LOCATION:The STAR Center\, 1119 Old Humboldt Road\, Jackson\, TN\, 38305
CATEGORIES:Community Conversation,Special Education
ATTACH;FMTTYPE=image/png:https://familyengagementtn.com/wp-content/uploads/2025/07/Northwest-Community-Conversation.png
ORGANIZER;CN="Annette Graves":MAILTO:agraves@thearctn.org
END:VEVENT
BEGIN:VEVENT
DTSTART;TZID=America/Chicago:20250825T170000
DTEND;TZID=America/Chicago:20250825T190000
DTSTAMP:20260422T071312
CREATED:20250806T182826Z
LAST-MODIFIED:20250807T203107Z
UID:2554-1756141200-1756148400@familyengagementtn.com
SUMMARY:Upper Cumberland Community Conversation
DESCRIPTION:Join The Arc Tennessee’s Family Engagement team for a conversation about special education in Tennessee! \nYour input will be shared with the Department of Education to help guide resources and provide meaningful feedback to schools and districts. \nAnyone involved in special education is encouraged to attend—especially students\, families\, educators\, school board members\, community members\, and business leaders. \nRegister Today\n 
URL:https://familyengagementtn.com/event/upper-cumberland-community-conversation-2/
LOCATION:VineBranch Community Church\, 2262 Bowser Road\, Cookeville\, TN\, 38506
CATEGORIES:Community Conversation
ATTACH;FMTTYPE=image/png:https://familyengagementtn.com/wp-content/uploads/2025/08/Upper-Cumberland-Community-Conversation.png
ORGANIZER;CN="Kristie Irvin":MAILTO:kirvin@thearctn.org
END:VEVENT
END:VCALENDAR