BEGIN:VCALENDAR
VERSION:2.0
PRODID:-//Family Engagement in Special Education - Tennessee - ECPv6.15.20//NONSGML v1.0//EN
CALSCALE:GREGORIAN
METHOD:PUBLISH
X-ORIGINAL-URL:https://familyengagementtn.com
X-WR-CALDESC:Events for Family Engagement in Special Education - Tennessee
REFRESH-INTERVAL;VALUE=DURATION:PT1H
X-Robots-Tag:noindex
X-PUBLISHED-TTL:PT1H
BEGIN:VTIMEZONE
TZID:America/Chicago
BEGIN:DAYLIGHT
TZOFFSETFROM:-0600
TZOFFSETTO:-0500
TZNAME:CDT
DTSTART:20240310T080000
END:DAYLIGHT
BEGIN:STANDARD
TZOFFSETFROM:-0500
TZOFFSETTO:-0600
TZNAME:CST
DTSTART:20241103T070000
END:STANDARD
BEGIN:DAYLIGHT
TZOFFSETFROM:-0600
TZOFFSETTO:-0500
TZNAME:CDT
DTSTART:20250309T080000
END:DAYLIGHT
BEGIN:STANDARD
TZOFFSETFROM:-0500
TZOFFSETTO:-0600
TZNAME:CST
DTSTART:20251102T070000
END:STANDARD
BEGIN:DAYLIGHT
TZOFFSETFROM:-0600
TZOFFSETTO:-0500
TZNAME:CDT
DTSTART:20260308T080000
END:DAYLIGHT
BEGIN:STANDARD
TZOFFSETFROM:-0500
TZOFFSETTO:-0600
TZNAME:CST
DTSTART:20261101T070000
END:STANDARD
END:VTIMEZONE
BEGIN:VEVENT
DTSTART;TZID=America/Chicago:20250922T180000
DTEND;TZID=America/Chicago:20250922T190000
DTSTAMP:20260424T055911
CREATED:20250822T210030Z
LAST-MODIFIED:20250919T170130Z
UID:2648-1758564000-1758567600@familyengagementtn.com
SUMMARY:Lincoln County Schools - Overview of the Individualized Education Program (IEP) for Families
DESCRIPTION:Join Lincoln County Schools and the Family Engagement in Special Education team for an informative session on individualized education program (IEP) meetings for families. \nWe’ll discuss common questions such as:\n– What is an IEP?\n– What happens during an IEP meeting?\n– How can families be actively involved? \nWhether you are new to special education or simply want to deepen your understanding\, you will leave with practical tips to help you support your child. \n  \nRegister Here!
URL:https://familyengagementtn.com/event/fayetteville-city-schools-overview-of-the-individualized-education-program-iep-for-families/
LOCATION:Lincoln Central Academy\, 909 Main Avenue S.\, Fayetteville\, TN\, 37334
CATEGORIES:Family Training,Special Education
ATTACH;FMTTYPE=image/png:https://familyengagementtn.com/wp-content/uploads/2025/08/922-Lincoln-County-School-1.png
ORGANIZER;CN="Beth Harrison":MAILTO:bharrison@thearctn.org
END:VEVENT
END:VCALENDAR