BEGIN:VCALENDAR
VERSION:2.0
PRODID:-//Family Engagement in Special Education - Tennessee - ECPv6.15.20//NONSGML v1.0//EN
CALSCALE:GREGORIAN
METHOD:PUBLISH
X-WR-CALNAME:Family Engagement in Special Education - Tennessee
X-ORIGINAL-URL:https://familyengagementtn.com
X-WR-CALDESC:Events for Family Engagement in Special Education - Tennessee
REFRESH-INTERVAL;VALUE=DURATION:PT1H
X-Robots-Tag:noindex
X-PUBLISHED-TTL:PT1H
BEGIN:VTIMEZONE
TZID:America/New_York
BEGIN:DAYLIGHT
TZOFFSETFROM:-0500
TZOFFSETTO:-0400
TZNAME:EDT
DTSTART:20250309T070000
END:DAYLIGHT
BEGIN:STANDARD
TZOFFSETFROM:-0400
TZOFFSETTO:-0500
TZNAME:EST
DTSTART:20251102T060000
END:STANDARD
BEGIN:DAYLIGHT
TZOFFSETFROM:-0500
TZOFFSETTO:-0400
TZNAME:EDT
DTSTART:20260308T070000
END:DAYLIGHT
BEGIN:STANDARD
TZOFFSETFROM:-0400
TZOFFSETTO:-0500
TZNAME:EST
DTSTART:20261101T060000
END:STANDARD
BEGIN:DAYLIGHT
TZOFFSETFROM:-0500
TZOFFSETTO:-0400
TZNAME:EDT
DTSTART:20270314T070000
END:DAYLIGHT
BEGIN:STANDARD
TZOFFSETFROM:-0400
TZOFFSETTO:-0500
TZNAME:EST
DTSTART:20271107T060000
END:STANDARD
END:VTIMEZONE
BEGIN:VEVENT
DTSTART;TZID=America/New_York:20260417T110000
DTEND;TZID=America/New_York:20260417T120000
DTSTAMP:20260419T090410
CREATED:20260401T214417Z
LAST-MODIFIED:20260415T000619Z
UID:2957-1776423600-1776427200@familyengagementtn.com
SUMMARY:Southeast Tennessee Spring Special Education Advocacy Networking Group (SPEDANG)
DESCRIPTION:Join us on Zoom for the 2026 Spring Special Education Advocacy Networking Group (SPEDANG).  \nAdvocacy groups that work with school-aged children receiving special education services are invited to an open discussion about special education in Tennessee.  A Tennessee Department of Education representative will provide updates and gather feedback from the group. Feedback from these events is shared with the state. \nRegister Here!
URL:https://familyengagementtn.com/event/southeast-tennessee-spring-special-education-advocacy-networking-group-spedang/
LOCATION:Virtual – Zoom
CATEGORIES:SPEDANG
ATTACH;FMTTYPE=image/jpeg:https://familyengagementtn.com/wp-content/uploads/2026/04/apr1726_southeast_tennessee_spedang.jpg
ORGANIZER;CN="Angie Cutrell":MAILTO:acutrell@thearctn.org
END:VEVENT
END:VCALENDAR